Workbook

Sheet Workbook Instructions
A1: ATTENTION LTC and ICF-DD Facilities:
B2: · OSS Payments will soon be generated by the State of Louisiana Division of Administration.
B3: · There has been a lot of confusion, so to avoid missed payments we request that all OSS facilities complete this workbook.
B4: · Once complete forward the electronic workbook to OSS@LA.Gov with supporting documentation (W-9's and EFT Forms).
B5: · Even if you have previously registered, please complete the workbook and return it. The information will aide in future error resolution.
B6: · Submit questions regarding the registration process to OSS@la.gov. Or you may call (337) 447 - 4145, (225) 342 - 0456, or (225) 342 - 0441.
B7: · For more information follow the link: | F7: http://lamedicaid.com/provweb1/Billing_Information/FIMS4729.pdf
A9: OSS Provider Registration Workbook: Help text is provided on tabs 1 & 2
B11: 1. Company (Parent Location) Tab:
B12: Section A: Enter the name, FEIN (or SSN) and DUNS # (if available) for the Parent Company.
B13: Section B: Enter contact information for the Parent Company
B14: Section C: Enter physical address of the Parent Company
B15: Section D: Enter the mailing address of the Parent Company if different from the physical
B16: Section E: Remittance Advice.
B17: · Please ensure you give us contact information for the person who will handle issues with OSS EFT payments.
B18: · Please provide a remittance address where paper checks would be mailed in case of emergency.
B20: 2. DBA Details: you will complete a column on tab 2 for each satellite (DBA) location of the Parent Company.
B21: Section A: Enter the name, FEIN (or SSN) and DUNS # (if available) for the DBA (This info may be the same as for the parent.
B22: Section B: Enter contact information for the DBA
B23: Section C: Enter physical address of the DBA
... B27: · Please provide a remittance address where paper checks would be mailed for each DBA in case of emergency.

Sheet 1.  Company (Parent) Details
C1: Company Info
A2: A | B2: Name
B3: FEIN or SSN
B4: D-U-N-S #
A5: B | B5: E-Mail Address
B6: Telephone
B7: Telephone Extension
B8: Fax
B9: Fax Extension
A10: C | B10: Physical Street Address
B11: Physical City
B12: Physical State
B13: Physical Zip
B14: Physical Parish/County
A15: D | B15: Mailing Address
B16: Mailing City
B17: Mailing State
B18: Mailing Zip
B19: Mailing Parish/County
B20: Mailing Country
A21: E | B21: Remit To Primary Contact
B22: Remit To Contact Phone
B23: Remit To Contact Phone Ext
B24: Remit To Contact Fax
B25: Remit To Contact Fax Ext
B26: Remit To Contact Email
B27: Remit To Address
B28: Remit To City
B29: Remit To State
B30: Remit To Zip
B31: Remit To Parish/County
B32: Remit To Country

Sheet 2.  DBA Details
B1: DBA Info | C1: Company Info | D1: Doing Business As (DBA) | E1: Doing Business As (DBA) | F1: Doing Business As (DBA) | G1: Doing Business As (DBA) | H1: Doing Business As (DBA) | I1: Doing Business As (DBA) | J1: Doing Business As (DBA) | K1: Doing Business As (DBA) | L1: Doing Business As (DBA) | M1: Doing Business As (DBA) | N1: Doing Business As (DBA) | O1: Doing Business As (DBA) | P1: Doing Business As (DBA) | Q1: Doing Business As (DBA) | R1: Doing Business As (DBA) | S1: Doing Business As (DBA) | T1: Doing Business As (DBA) | U1: Doing Business As (DBA) | V1: Doing Business As (DBA) | W1: Doing Business As (DBA) | X1: Doing Business As (DBA) | Y1: Doing Business As (DBA) | Z1: Doing Business As (DBA) | AA1: Doing Business As (DBA) | AB1: Doing Business As (DBA)
A2: A | B2: Name | C2: ='1. Company (Parent) Details'!E2 -> 0
B3: FEIN or SSN | C3: ='1. Company (Parent) Details'!E3 -> 0
B4: D-U-N-S # | C4: ='1. Company (Parent) Details'!E4 -> 0
A5: B | B5: E-Mail Address | C5: ='1. Company (Parent) Details'!E5 -> 0
B6: Telephone | C6: ='1. Company (Parent) Details'!E6 -> 0
B7: Telephone Extension | C7: ='1. Company (Parent) Details'!E7 -> 0
B8: Fax | C8: ='1. Company (Parent) Details'!E8 -> 0
B9: Fax Extension | C9: ='1. Company (Parent) Details'!E9 -> 0
A10: C | B10: Physical Street Address | C10: ='1. Company (Parent) Details'!E10 -> 0
B11: Physical City | C11: ='1. Company (Parent) Details'!E11 -> 0
B12: Physical State | C12: ='1. Company (Parent) Details'!E12 -> 0
B13: Physical Zip | C13: ='1. Company (Parent) Details'!E13 -> 0
B14: Physical Parish/County | C14: ='1. Company (Parent) Details'!E14 -> 0
A15: D | B15: Mailing Address | C15: ='1. Company (Parent) Details'!E15 -> 0
B16: Mailing City | C16: ='1. Company (Parent) Details'!E16 -> 0
B17: Mailing State | C17: ='1. Company (Parent) Details'!E17 -> 0
B18: Mailing Zip | C18: ='1. Company (Parent) Details'!E18 -> 0
B19: Mailing Parish/County | C19: ='1. Company (Parent) Details'!E19 -> 0
B20: Mailing Country | C20: ='1. Company (Parent) Details'!E20 -> 0
A21: E | B21: Remit To Primary Contact | C21: ='1. Company (Parent) Details'!E21 -> 0
B22: Remit To Contact Phone | C22: ='1. Company (Parent) Details'!E22 -> 0
B23: Remit To Contact Phone Ext | C23: ='1. Company (Parent) Details'!E23 -> 0
B24: Remit To Contact Fax | C24: ='1. Company (Parent) Details'!E24 -> 0
B25: Remit To Contact Fax Ext | C25: ='1. Company (Parent) Details'!E25 -> 0
B26: Remit To Contact Email | C26: ='1. Company (Parent) Details'!E26 -> 0
B27: Remit To Address | C27: ='1. Company (Parent) Details'!E27 -> 0
B28: Remit To City | C28: ='1. Company (Parent) Details'!E28 -> 0
B29: Remit To State | C29: ='1. Company (Parent) Details'!E29 -> 0
B30: Remit To Zip | C30: ='1. Company (Parent) Details'!E30 -> 0
B31: Remit To Parish/County | C31: ='1. Company (Parent) Details'!E31 -> 0
B32: Remit To Country | C32: ='1. Company (Parent) Details'!E32 -> 0
